BEGIN:VCALENDAR
VERSION:2.0
PRODID:-//eventon.com NONSGML v1.0//EN
BEGIN:VEVENT
UID:69eb02525f16f
DTSTAMP:20260424T074034
DTSTART:20261003T040000Z
DTEND:20261004T213000Z
LOCATION:
SUMMARY:Premier voyage à Nohant et Vichy (Réservé au adhérents)
DESCRIPTION: Premier voyage à Nohant et Vichy Samedi 3 et dimanche 4 octobre 2026 La maison de Gorge Sand à Nohant : Entre George Sand et sa demeure\,  c'est une histoire d'amour faite d'une succession d'arrachements et de retrouvailles. Elle y reçoit ses amis\,  les fidèles Berrichons\,  et les Parisiens : Liszt\, [..]
END:VEVENT
END:VCALENDAR