BEGIN:VCALENDAR
VERSION:2.0
PRODID:-//eventon.com NONSGML v1.0//EN
BEGIN:VEVENT
UID:69eb021cd40d8
DTSTAMP:20260424T073940
DTSTART:20261009T040000Z
DTEND:20261010T213000Z
LOCATION:
SUMMARY:Second voyage à Nohant et Vichy (Réservé au adhérents)
DESCRIPTION: Second voyage à Nohant et Vichy vendredi 09 et samedi 10 octobre 2026 La maison de Gorge Sand à Nohant : Entre George Sand et sa demeure\,  c'est une histoire d'amour faite d'une succession d'arrachements et de retrouvailles. Elle y reçoit ses amis\,  les fidèles Berrichons\,  et les Parisiens : Liszt\, [..]
END:VEVENT
END:VCALENDAR