BEGIN:VCALENDAR
VERSION:2.0
PRODID:-//eventon.com NONSGML v1.0//EN
BEGIN:VEVENT
UID:69eb021cd3f48
DTSTAMP:20260424T073940
DTSTART:20260919T073000Z
DTEND:20260919T153000Z
LOCATION:
SUMMARY:Les journées du Patrimoine 2026 à La Côte-Saint-André et dans le vallée de la Bourbre
DESCRIPTION: Les journées du Patrimoine 2026 à La Côte-Saint-André et dans la vallée de la Bourbre Une sortie en Car avec un repas à midi seront prévus Mais ce programme est en-cours d'élaboration et plus de précisions seront disponibles ultérieurement.
END:VEVENT
END:VCALENDAR