BEGIN:VCALENDAR
VERSION:2.0
PRODID:-//eventon.com NONSGML v1.0//EN
BEGIN:VEVENT
UID:69eb027b2e038
DTSTAMP:20260424T074115
DTSTART:20260502T070000Z
DTEND:20260502T103000Z
LOCATION:Gare de Châbons 38690 Châbons
SUMMARY:Circuit pédestre dans la vallée de la Bourbre
DESCRIPTION: Promenade dans la vallée de la Bourbre à Burcin\,  Châbons et Val-de-Virieu. Le samedi 02 mai 2026\,  à partir de 09 heures. &nbsp; L’association « Dans les pas de Jongkind en Dauphiné » vous invite à marcher sur les chemins et les sentiers de Châbons à Val-de-Virieu. Vous découvrirez le[..]
END:VEVENT
END:VCALENDAR