BEGIN:VCALENDAR
VERSION:2.0
PRODID:-//eventon.com NONSGML v1.0//EN
BEGIN:VEVENT
UID:69eb024af179b
DTSTAMP:20260424T074026
DTSTART:20260606T073000Z
DTEND:20260606T103000Z
LOCATION:La Côte saint-André 38260 La Côte Saint André
SUMMARY:Promenade à La Côte-Saint-André et Ornacieux-Balbins
DESCRIPTION: Promenade à La Côte-Saint-André et Ornacieux-Balbin. Aller dans les pas de Jongkind\,  c’est se rendre là où le peintre a posé son chevalet pour admirer de remarquables paysages et le riche patrimoine architectural côtois. Si Jongkind vécut en Dauphiné\,  avec sa famille d’adoption\,  d’abord dans la vallée de la Bourbre[..]
END:VEVENT
END:VCALENDAR