BEGIN:VCALENDAR
VERSION:2.0
PRODID:-//eventon.com NONSGML v1.0//EN
BEGIN:VEVENT
UID:69eb024af13dc
DTSTAMP:20260424T074026
DTSTART:20260424T220000Z
DTEND:20260425T215900Z
LOCATION:Château de Pupetières 100 Route de Virieu\,  38690 Châbons
SUMMARY:Les plantes en folie 2026 à Pupetières (le samedi)
DESCRIPTION: Journées des plantes en folie à Pupetières (le samedi). Ce lieu emblématique du passage du peintre Jongkind en Dauphiné présente un événement jardin annuel qui se déroule le dernier week-end de septembre. Un rendez-vous pour tous les passionnés de jardins et amateurs de plantes rares. Notre association y est présente\, [..]
END:VEVENT
END:VCALENDAR