BEGIN:VCALENDAR
VERSION:2.0
PRODID:-//eventon.com NONSGML v1.0//EN
BEGIN:VEVENT
UID:69eb0261a0beb
DTSTAMP:20260424T074049
DTSTART:20260618T034500Z
DTEND:20260620T215900Z
LOCATION:Maison Caillebotte à yerres\,  Château Rosa Bonheur\,  Barbizon\,  Fontaineble 
SUMMARY:Second voyage « Maison Caillebotte\,  Château Rosa Bonheur\,  Barbizon\,  Fontainebleau » (réservé aux adhérents)
DESCRIPTION: Second voyage du jeudi 18 juin au samedi 20 juin 2026  Cet été\,  nous vous emmènerons en Ile de France\,  à la découverte de quatre hauts lieux du patrimoine artistique\,  culturel et naturel. Nous débuterons notre séjour par une visite de «  La Maison Caillebotte à Yerres  »\,  une étape[..]
END:VEVENT
END:VCALENDAR